BEGIN:VCALENDAR
VERSION:2.0
PRODID:-//Oakland Housing Authority - ECPv6.15.12.2//NONSGML v1.0//EN
CALSCALE:GREGORIAN
METHOD:PUBLISH
X-ORIGINAL-URL:https://www.oakha.org
X-WR-CALDESC:Events for Oakland Housing Authority
REFRESH-INTERVAL;VALUE=DURATION:PT1H
X-Robots-Tag:noindex
X-PUBLISHED-TTL:PT1H
BEGIN:VTIMEZONE
TZID:America/Los_Angeles
BEGIN:DAYLIGHT
TZOFFSETFROM:-0800
TZOFFSETTO:-0700
TZNAME:PDT
DTSTART:20180311T100000
END:DAYLIGHT
BEGIN:STANDARD
TZOFFSETFROM:-0700
TZOFFSETTO:-0800
TZNAME:PST
DTSTART:20181104T090000
END:STANDARD
BEGIN:DAYLIGHT
TZOFFSETFROM:-0800
TZOFFSETTO:-0700
TZNAME:PDT
DTSTART:20190310T100000
END:DAYLIGHT
BEGIN:STANDARD
TZOFFSETFROM:-0700
TZOFFSETTO:-0800
TZNAME:PST
DTSTART:20191103T090000
END:STANDARD
BEGIN:DAYLIGHT
TZOFFSETFROM:-0800
TZOFFSETTO:-0700
TZNAME:PDT
DTSTART:20200308T100000
END:DAYLIGHT
BEGIN:STANDARD
TZOFFSETFROM:-0700
TZOFFSETTO:-0800
TZNAME:PST
DTSTART:20201101T090000
END:STANDARD
END:VTIMEZONE
BEGIN:VEVENT
DTSTART;TZID=America/Los_Angeles:20190513T000000
DTEND;TZID=America/Los_Angeles:20190513T000000
DTSTAMP:20260421T151723
CREATED:20250627T191654Z
LAST-MODIFIED:20260211T201009Z
UID:10003416-1557705600-1557705600@www.oakha.org
SUMMARY:Board Meeting 5/13/2019
DESCRIPTION:
URL:https://www.oakha.org/event/board-meeting-5-13-2019/
CATEGORIES:Board Meeting
END:VEVENT
BEGIN:VEVENT
DTSTART;TZID=America/Los_Angeles:20190527T000000
DTEND;TZID=America/Los_Angeles:20190527T000000
DTSTAMP:20260421T151723
CREATED:20250627T191812Z
LAST-MODIFIED:20260211T201009Z
UID:10003417-1558915200-1558915200@www.oakha.org
SUMMARY:Board Meeting 5/27/2019
DESCRIPTION:CANCELLED
URL:https://www.oakha.org/event/board-meeting-5-27-2019/
CATEGORIES:Board Meeting
END:VEVENT
END:VCALENDAR