BEGIN:VCALENDAR
VERSION:2.0
PRODID:-//Oakland Housing Authority - ECPv6.15.12.2//NONSGML v1.0//EN
CALSCALE:GREGORIAN
METHOD:PUBLISH
X-WR-CALNAME:Oakland Housing Authority
X-ORIGINAL-URL:https://www.oakha.org
X-WR-CALDESC:Events for Oakland Housing Authority
REFRESH-INTERVAL;VALUE=DURATION:PT1H
X-Robots-Tag:noindex
X-PUBLISHED-TTL:PT1H
BEGIN:VTIMEZONE
TZID:America/Los_Angeles
BEGIN:DAYLIGHT
TZOFFSETFROM:-0800
TZOFFSETTO:-0700
TZNAME:PDT
DTSTART:20180311T100000
END:DAYLIGHT
BEGIN:STANDARD
TZOFFSETFROM:-0700
TZOFFSETTO:-0800
TZNAME:PST
DTSTART:20181104T090000
END:STANDARD
BEGIN:DAYLIGHT
TZOFFSETFROM:-0800
TZOFFSETTO:-0700
TZNAME:PDT
DTSTART:20190310T100000
END:DAYLIGHT
BEGIN:STANDARD
TZOFFSETFROM:-0700
TZOFFSETTO:-0800
TZNAME:PST
DTSTART:20191103T090000
END:STANDARD
BEGIN:DAYLIGHT
TZOFFSETFROM:-0800
TZOFFSETTO:-0700
TZNAME:PDT
DTSTART:20200308T100000
END:DAYLIGHT
BEGIN:STANDARD
TZOFFSETFROM:-0700
TZOFFSETTO:-0800
TZNAME:PST
DTSTART:20201101T090000
END:STANDARD
END:VTIMEZONE
BEGIN:VEVENT
DTSTART;TZID=America/Los_Angeles:20191003T000000
DTEND;TZID=America/Los_Angeles:20191003T000000
DTSTAMP:20260421T070034
CREATED:20250627T191827Z
LAST-MODIFIED:20260211T201009Z
UID:10003423-1570060800-1570060800@www.oakha.org
SUMMARY:Board Meeting 10/3/2019
DESCRIPTION:SPECIAL MEETING
URL:https://www.oakha.org/event/board-meeting-10-3-2019/
CATEGORIES:Board Meeting
END:VEVENT
BEGIN:VEVENT
DTSTART;TZID=America/Los_Angeles:20191014T000000
DTEND;TZID=America/Los_Angeles:20191014T000000
DTSTAMP:20260421T070034
CREATED:20250627T191827Z
LAST-MODIFIED:20260211T201009Z
UID:10003424-1571011200-1571011200@www.oakha.org
SUMMARY:Board Meeting 10/14/2019
DESCRIPTION:SPECIAL MEETING
URL:https://www.oakha.org/event/board-meeting-10-14-2019/
CATEGORIES:Board Meeting
END:VEVENT
BEGIN:VEVENT
DTSTART;TZID=America/Los_Angeles:20191028T000000
DTEND;TZID=America/Los_Angeles:20191028T000000
DTSTAMP:20260421T070034
CREATED:20250627T191827Z
LAST-MODIFIED:20260211T201009Z
UID:10003425-1572220800-1572220800@www.oakha.org
SUMMARY:Board Meeting 10/28/2019
DESCRIPTION:
URL:https://www.oakha.org/event/board-meeting-10-28-2019/
CATEGORIES:Board Meeting
END:VEVENT
END:VCALENDAR