BEGIN:VCALENDAR
VERSION:2.0
PRODID:-//Oakland Housing Authority - ECPv6.15.12.2//NONSGML v1.0//EN
CALSCALE:GREGORIAN
METHOD:PUBLISH
X-WR-CALNAME:Oakland Housing Authority
X-ORIGINAL-URL:https://www.oakha.org
X-WR-CALDESC:Events for Oakland Housing Authority
REFRESH-INTERVAL;VALUE=DURATION:PT1H
X-Robots-Tag:noindex
X-PUBLISHED-TTL:PT1H
BEGIN:VTIMEZONE
TZID:America/Los_Angeles
BEGIN:DAYLIGHT
TZOFFSETFROM:-0800
TZOFFSETTO:-0700
TZNAME:PDT
DTSTART:20240310T100000
END:DAYLIGHT
BEGIN:STANDARD
TZOFFSETFROM:-0700
TZOFFSETTO:-0800
TZNAME:PST
DTSTART:20241103T090000
END:STANDARD
BEGIN:DAYLIGHT
TZOFFSETFROM:-0800
TZOFFSETTO:-0700
TZNAME:PDT
DTSTART:20250309T100000
END:DAYLIGHT
BEGIN:STANDARD
TZOFFSETFROM:-0700
TZOFFSETTO:-0800
TZNAME:PST
DTSTART:20251102T090000
END:STANDARD
BEGIN:DAYLIGHT
TZOFFSETFROM:-0800
TZOFFSETTO:-0700
TZNAME:PDT
DTSTART:20260308T100000
END:DAYLIGHT
BEGIN:STANDARD
TZOFFSETFROM:-0700
TZOFFSETTO:-0800
TZNAME:PST
DTSTART:20261101T090000
END:STANDARD
END:VTIMEZONE
BEGIN:VEVENT
DTSTART;TZID=America/Los_Angeles:20250519T000000
DTEND;TZID=America/Los_Angeles:20250519T000000
DTSTAMP:20260422T200308
CREATED:20250627T194030Z
LAST-MODIFIED:20260211T201015Z
UID:10003507-1747612800-1747612800@www.oakha.org
SUMMARY:Board Meeting 5/19/2025
DESCRIPTION:This is an electronic and telephonic meeting\nPlease use the following phone number:\nMeeting ID: 826 8801 6528\nMeeting Password: 916925\nTo Participate by Telephone: 1(669)219-2599
URL:https://www.oakha.org/event/board-meeting-5-19-2025/
CATEGORIES:Board Meeting
END:VEVENT
BEGIN:VEVENT
DTSTART;TZID=America/Los_Angeles:20250526T080000
DTEND;TZID=America/Los_Angeles:20250526T170000
DTSTAMP:20260422T200308
CREATED:20250918T225032Z
LAST-MODIFIED:20260211T201015Z
UID:10003611-1748246400-1748278800@www.oakha.org
SUMMARY:Regular Meeting
DESCRIPTION:
URL:https://www.oakha.org/event/regular-meeting/
CATEGORIES:Board Meeting
END:VEVENT
END:VCALENDAR