BEGIN:VCALENDAR
VERSION:2.0
PRODID:-//Oakland Housing Authority - ECPv6.15.12.2//NONSGML v1.0//EN
CALSCALE:GREGORIAN
METHOD:PUBLISH
X-ORIGINAL-URL:https://www.oakha.org
X-WR-CALDESC:Events for Oakland Housing Authority
REFRESH-INTERVAL;VALUE=DURATION:PT1H
X-Robots-Tag:noindex
X-PUBLISHED-TTL:PT1H
BEGIN:VTIMEZONE
TZID:America/Los_Angeles
BEGIN:DAYLIGHT
TZOFFSETFROM:-0800
TZOFFSETTO:-0700
TZNAME:PDT
DTSTART:20250309T100000
END:DAYLIGHT
BEGIN:STANDARD
TZOFFSETFROM:-0700
TZOFFSETTO:-0800
TZNAME:PST
DTSTART:20251102T090000
END:STANDARD
BEGIN:DAYLIGHT
TZOFFSETFROM:-0800
TZOFFSETTO:-0700
TZNAME:PDT
DTSTART:20260308T100000
END:DAYLIGHT
BEGIN:STANDARD
TZOFFSETFROM:-0700
TZOFFSETTO:-0800
TZNAME:PST
DTSTART:20261101T090000
END:STANDARD
BEGIN:DAYLIGHT
TZOFFSETFROM:-0800
TZOFFSETTO:-0700
TZNAME:PDT
DTSTART:20270314T100000
END:DAYLIGHT
BEGIN:STANDARD
TZOFFSETFROM:-0700
TZOFFSETTO:-0800
TZNAME:PST
DTSTART:20271107T090000
END:STANDARD
END:VTIMEZONE
BEGIN:VEVENT
DTSTART;TZID=America/Los_Angeles:20260203T173000
DTEND;TZID=America/Los_Angeles:20260203T183000
DTSTAMP:20260422T034405
CREATED:20260130T023327Z
LAST-MODIFIED:20260211T201004Z
UID:10003764-1770139800-1770143400@www.oakha.org
SUMMARY:Standing Real Estate Development Committee Meeting
DESCRIPTION:
URL:https://www.oakha.org/event/standing-real-estate-development-committee-meeting/
CATEGORIES:Board Meeting
END:VEVENT
BEGIN:VEVENT
DTSTART;TZID=America/Los_Angeles:20260223T180000
DTEND;TZID=America/Los_Angeles:20260223T210000
DTSTAMP:20260422T034405
CREATED:20260219T221717Z
LAST-MODIFIED:20260324T200244Z
UID:10003735-1771869600-1771880400@www.oakha.org
SUMMARY:Regular Meeting
DESCRIPTION:
URL:https://www.oakha.org/event/regular-meeting-8-4/
CATEGORIES:Board Meeting
END:VEVENT
END:VCALENDAR