BEGIN:VCALENDAR
VERSION:2.0
PRODID:-//Oakland Housing Authority - ECPv6.15.12.2//NONSGML v1.0//EN
CALSCALE:GREGORIAN
METHOD:PUBLISH
X-ORIGINAL-URL:https://www.oakha.org
X-WR-CALDESC:Events for Oakland Housing Authority
REFRESH-INTERVAL;VALUE=DURATION:PT1H
X-Robots-Tag:noindex
X-PUBLISHED-TTL:PT1H
BEGIN:VTIMEZONE
TZID:America/Los_Angeles
BEGIN:DAYLIGHT
TZOFFSETFROM:-0800
TZOFFSETTO:-0700
TZNAME:PDT
DTSTART:20250309T100000
END:DAYLIGHT
BEGIN:STANDARD
TZOFFSETFROM:-0700
TZOFFSETTO:-0800
TZNAME:PST
DTSTART:20251102T090000
END:STANDARD
BEGIN:DAYLIGHT
TZOFFSETFROM:-0800
TZOFFSETTO:-0700
TZNAME:PDT
DTSTART:20260308T100000
END:DAYLIGHT
BEGIN:STANDARD
TZOFFSETFROM:-0700
TZOFFSETTO:-0800
TZNAME:PST
DTSTART:20261101T090000
END:STANDARD
BEGIN:DAYLIGHT
TZOFFSETFROM:-0800
TZOFFSETTO:-0700
TZNAME:PDT
DTSTART:20270314T100000
END:DAYLIGHT
BEGIN:STANDARD
TZOFFSETFROM:-0700
TZOFFSETTO:-0800
TZNAME:PST
DTSTART:20271107T090000
END:STANDARD
END:VTIMEZONE
BEGIN:VEVENT
DTSTART;TZID=America/Los_Angeles:20261211T080000
DTEND;TZID=America/Los_Angeles:20261211T163000
DTSTAMP:20260421T034600
CREATED:20251212T042228Z
LAST-MODIFIED:20251216T171309Z
UID:10003712-1796976000-1797006600@www.oakha.org
SUMMARY:Non-work day - Closed
DESCRIPTION:The Oakland Housing Authority observes a 9/80 work schedule. Our offices are closed every other Friday.
URL:https://www.oakha.org/event/oha-office-closures-holiday-schedule/2026-12-11/
CATEGORIES:Holiday Schedule and Office Closures Calendar
END:VEVENT
BEGIN:VEVENT
DTSTART;TZID=America/Los_Angeles:20261223T120000
DTEND;TZID=America/Los_Angeles:20261223T163000
DTSTAMP:20260421T034600
CREATED:20251215T230238Z
LAST-MODIFIED:20260211T200918Z
UID:10003729-1798027200-1798043400@www.oakha.org
SUMMARY:Christmas Eve - 1/2 Day Closure
DESCRIPTION:
URL:https://www.oakha.org/event/christmas-eve-1-2-day-closure/
CATEGORIES:Holiday Schedule and Office Closures Calendar
END:VEVENT
BEGIN:VEVENT
DTSTART;TZID=America/Los_Angeles:20261224T080000
DTEND;TZID=America/Los_Angeles:20261224T163000
DTSTAMP:20260421T034600
CREATED:20251215T230925Z
LAST-MODIFIED:20260211T200918Z
UID:10003730-1798099200-1798129800@www.oakha.org
SUMMARY:Christmas Day (Observed) - Closed
DESCRIPTION:
URL:https://www.oakha.org/event/christmas-day-observed-closed/
CATEGORIES:Holiday Schedule and Office Closures Calendar
END:VEVENT
BEGIN:VEVENT
DTSTART;TZID=America/Los_Angeles:20261225T080000
DTEND;TZID=America/Los_Angeles:20261225T163000
DTSTAMP:20260421T034600
CREATED:20251212T042228Z
LAST-MODIFIED:20251216T171309Z
UID:10003713-1798185600-1798216200@www.oakha.org
SUMMARY:Non-work day - Closed
DESCRIPTION:The Oakland Housing Authority observes a 9/80 work schedule. Our offices are closed every other Friday.
URL:https://www.oakha.org/event/oha-office-closures-holiday-schedule/2026-12-25/
CATEGORIES:Holiday Schedule and Office Closures Calendar
END:VEVENT
BEGIN:VEVENT
DTSTART;TZID=America/Los_Angeles:20261231T120000
DTEND;TZID=America/Los_Angeles:20261231T163000
DTSTAMP:20260421T034600
CREATED:20251215T231217Z
LAST-MODIFIED:20260211T200918Z
UID:10003731-1798718400-1798734600@www.oakha.org
SUMMARY:New Year's Eve 1/2 Day Closure
DESCRIPTION:
URL:https://www.oakha.org/event/new-years-eve-1-2-day-closure/
CATEGORIES:Holiday Schedule and Office Closures Calendar
END:VEVENT
END:VCALENDAR