BEGIN:VCALENDAR
VERSION:2.0
PRODID:-//Oakland Housing Authority - ECPv6.15.12.2//NONSGML v1.0//EN
CALSCALE:GREGORIAN
METHOD:PUBLISH
X-ORIGINAL-URL:https://www.oakha.org
X-WR-CALDESC:Events for Oakland Housing Authority
REFRESH-INTERVAL;VALUE=DURATION:PT1H
X-Robots-Tag:noindex
X-PUBLISHED-TTL:PT1H
BEGIN:VTIMEZONE
TZID:America/Los_Angeles
BEGIN:DAYLIGHT
TZOFFSETFROM:-0800
TZOFFSETTO:-0700
TZNAME:PDT
DTSTART:20140309T100000
END:DAYLIGHT
BEGIN:STANDARD
TZOFFSETFROM:-0700
TZOFFSETTO:-0800
TZNAME:PST
DTSTART:20141102T090000
END:STANDARD
BEGIN:DAYLIGHT
TZOFFSETFROM:-0800
TZOFFSETTO:-0700
TZNAME:PDT
DTSTART:20150308T100000
END:DAYLIGHT
BEGIN:STANDARD
TZOFFSETFROM:-0700
TZOFFSETTO:-0800
TZNAME:PST
DTSTART:20151101T090000
END:STANDARD
BEGIN:DAYLIGHT
TZOFFSETFROM:-0800
TZOFFSETTO:-0700
TZNAME:PDT
DTSTART:20160313T100000
END:DAYLIGHT
BEGIN:STANDARD
TZOFFSETFROM:-0700
TZOFFSETTO:-0800
TZNAME:PST
DTSTART:20161106T090000
END:STANDARD
END:VTIMEZONE
BEGIN:VEVENT
DTSTART;TZID=America/Los_Angeles:20151210T000000
DTEND;TZID=America/Los_Angeles:20151210T000000
DTSTAMP:20260425T120807
CREATED:20250623T210217Z
LAST-MODIFIED:20260211T201101Z
UID:10003264-1449705600-1449705600@www.oakha.org
SUMMARY:Tassafaronga Regular Meeting 12/10/2015
DESCRIPTION:Tassafaronga Regular Meeting
URL:https://www.oakha.org/event/tassafaronga-regular-meeting-12-10-2015/
CATEGORIES:Tassafaronga Housing Corporation (THC)
END:VEVENT
BEGIN:VEVENT
DTSTART;TZID=America/Los_Angeles:20151214T000000
DTEND;TZID=America/Los_Angeles:20151214T000000
DTSTAMP:20260425T120807
CREATED:20250627T190756Z
LAST-MODIFIED:20260211T201005Z
UID:10003363-1450051200-1450051200@www.oakha.org
SUMMARY:Board Meeting 12/14/2015
DESCRIPTION:
URL:https://www.oakha.org/event/board-meeting-12-14-2015/
CATEGORIES:Board Meeting
END:VEVENT
BEGIN:VEVENT
DTSTART;TZID=America/Los_Angeles:20151228T000000
DTEND;TZID=America/Los_Angeles:20151228T000000
DTSTAMP:20260425T120807
CREATED:20250627T190756Z
LAST-MODIFIED:20260211T201005Z
UID:10003364-1451260800-1451260800@www.oakha.org
SUMMARY:Board Meeting 12/28/2015
DESCRIPTION:CANCELLED
URL:https://www.oakha.org/event/board-meeting-12-28-2015/
CATEGORIES:Board Meeting
END:VEVENT
END:VCALENDAR