BEGIN:VCALENDAR
VERSION:2.0
PRODID:-//Oakland Housing Authority - ECPv6.15.12.2//NONSGML v1.0//EN
CALSCALE:GREGORIAN
METHOD:PUBLISH
X-WR-CALNAME:Oakland Housing Authority
X-ORIGINAL-URL:https://www.oakha.org
X-WR-CALDESC:Events for Oakland Housing Authority
REFRESH-INTERVAL;VALUE=DURATION:PT1H
X-Robots-Tag:noindex
X-PUBLISHED-TTL:PT1H
BEGIN:VTIMEZONE
TZID:America/Los_Angeles
BEGIN:DAYLIGHT
TZOFFSETFROM:-0800
TZOFFSETTO:-0700
TZNAME:PDT
DTSTART:20150308T100000
END:DAYLIGHT
BEGIN:STANDARD
TZOFFSETFROM:-0700
TZOFFSETTO:-0800
TZNAME:PST
DTSTART:20151101T090000
END:STANDARD
BEGIN:DAYLIGHT
TZOFFSETFROM:-0800
TZOFFSETTO:-0700
TZNAME:PDT
DTSTART:20160313T100000
END:DAYLIGHT
BEGIN:STANDARD
TZOFFSETFROM:-0700
TZOFFSETTO:-0800
TZNAME:PST
DTSTART:20161106T090000
END:STANDARD
BEGIN:DAYLIGHT
TZOFFSETFROM:-0800
TZOFFSETTO:-0700
TZNAME:PDT
DTSTART:20170312T100000
END:DAYLIGHT
BEGIN:STANDARD
TZOFFSETFROM:-0700
TZOFFSETTO:-0800
TZNAME:PST
DTSTART:20171105T090000
END:STANDARD
END:VTIMEZONE
BEGIN:VEVENT
DTSTART;TZID=America/Los_Angeles:20160328T000000
DTEND;TZID=America/Los_Angeles:20160328T000000
DTSTAMP:20260425T063622
CREATED:20250627T190811Z
LAST-MODIFIED:20260211T201005Z
UID:10003368-1459123200-1459123200@www.oakha.org
SUMMARY:Board Meeting 3/28/2016
DESCRIPTION:CANCELLED
URL:https://www.oakha.org/event/board-meeting-3-28-2016/
CATEGORIES:Board Meeting
END:VEVENT
BEGIN:VEVENT
DTSTART;TZID=America/Los_Angeles:20160331T000000
DTEND;TZID=America/Los_Angeles:20160331T000000
DTSTAMP:20260425T063622
CREATED:20250623T210020Z
LAST-MODIFIED:20260211T201141Z
UID:10003222-1459382400-1459382400@www.oakha.org
SUMMARY:OHI Regular Meeting 3/31/2016
DESCRIPTION:OHI Regular Meeting
URL:https://www.oakha.org/event/ohi-regular-meeting-3-31-2016/
CATEGORIES:Oakland Housing Initiatives, Inc. (OHI)
END:VEVENT
BEGIN:VEVENT
DTSTART;TZID=America/Los_Angeles:20160331T000000
DTEND;TZID=America/Los_Angeles:20160331T000000
DTSTAMP:20260425T063622
CREATED:20250626T211154Z
LAST-MODIFIED:20260211T201122Z
UID:10003346-1459382400-1459382400@www.oakha.org
SUMMARY:KHI Regular Meeting 3/31/2016
DESCRIPTION:KHI Regular Meeting
URL:https://www.oakha.org/event/khi-regular-meeting-3-31-2016/
CATEGORIES:Keller Housing Initiatives, Inc. (KHI)
END:VEVENT
END:VCALENDAR