BEGIN:VCALENDAR
VERSION:2.0
PRODID:-//Oakland Housing Authority - ECPv6.15.12.2//NONSGML v1.0//EN
CALSCALE:GREGORIAN
METHOD:PUBLISH
X-ORIGINAL-URL:https://www.oakha.org
X-WR-CALDESC:Events for Oakland Housing Authority
REFRESH-INTERVAL;VALUE=DURATION:PT1H
X-Robots-Tag:noindex
X-PUBLISHED-TTL:PT1H
BEGIN:VTIMEZONE
TZID:America/Los_Angeles
BEGIN:DAYLIGHT
TZOFFSETFROM:-0800
TZOFFSETTO:-0700
TZNAME:PDT
DTSTART:20160313T100000
END:DAYLIGHT
BEGIN:STANDARD
TZOFFSETFROM:-0700
TZOFFSETTO:-0800
TZNAME:PST
DTSTART:20161106T090000
END:STANDARD
BEGIN:DAYLIGHT
TZOFFSETFROM:-0800
TZOFFSETTO:-0700
TZNAME:PDT
DTSTART:20170312T100000
END:DAYLIGHT
BEGIN:STANDARD
TZOFFSETFROM:-0700
TZOFFSETTO:-0800
TZNAME:PST
DTSTART:20171105T090000
END:STANDARD
BEGIN:DAYLIGHT
TZOFFSETFROM:-0800
TZOFFSETTO:-0700
TZNAME:PDT
DTSTART:20180311T100000
END:DAYLIGHT
BEGIN:STANDARD
TZOFFSETFROM:-0700
TZOFFSETTO:-0800
TZNAME:PST
DTSTART:20181104T090000
END:STANDARD
END:VTIMEZONE
BEGIN:VEVENT
DTSTART;TZID=America/Los_Angeles:20170621T000000
DTEND;TZID=America/Los_Angeles:20170621T000000
DTSTAMP:20260424T024456
CREATED:20250623T210017Z
LAST-MODIFIED:20260211T201140Z
UID:10003217-1498003200-1498003200@www.oakha.org
SUMMARY:OHI Regular Meeting 6/21/2017
DESCRIPTION:OHI Regular Meeting
URL:https://www.oakha.org/event/ohi-regular-meeting-6-21-2017/
CATEGORIES:Oakland Housing Initiatives, Inc. (OHI)
END:VEVENT
BEGIN:VEVENT
DTSTART;TZID=America/Los_Angeles:20170621T000000
DTEND;TZID=America/Los_Angeles:20170621T000000
DTSTAMP:20260424T024456
CREATED:20250626T210953Z
LAST-MODIFIED:20260211T201122Z
UID:10003342-1498003200-1498003200@www.oakha.org
SUMMARY:KHI Regular Meeting 6/21/2017
DESCRIPTION:KHI Regular Meeting
URL:https://www.oakha.org/event/khi-regular-meeting-6-21-2017/
CATEGORIES:Keller Housing Initiatives, Inc. (KHI)
END:VEVENT
BEGIN:VEVENT
DTSTART;TZID=America/Los_Angeles:20170622T000000
DTEND;TZID=America/Los_Angeles:20170622T000000
DTSTAMP:20260424T024456
CREATED:20250623T210210Z
LAST-MODIFIED:20260211T201100Z
UID:10003262-1498089600-1498089600@www.oakha.org
SUMMARY:Tassafaronga Regular Meeting 6/22/2017
DESCRIPTION:Tassafaronga Regular Meeting
URL:https://www.oakha.org/event/tassafaronga-regular-meeting-6-22-2017/
CATEGORIES:Tassafaronga Housing Corporation (THC)
END:VEVENT
BEGIN:VEVENT
DTSTART;TZID=America/Los_Angeles:20170626T000000
DTEND;TZID=America/Los_Angeles:20170626T000000
DTSTAMP:20260424T024456
CREATED:20250627T191056Z
LAST-MODIFIED:20260211T201007Z
UID:10003388-1498435200-1498435200@www.oakha.org
SUMMARY:Board Meeting 6/26/2017
DESCRIPTION:
URL:https://www.oakha.org/event/board-meeting-6-26-2017/
CATEGORIES:Board Meeting
END:VEVENT
END:VCALENDAR