BEGIN:VCALENDAR
VERSION:2.0
PRODID:-//Oakland Housing Authority - ECPv6.15.12.2//NONSGML v1.0//EN
CALSCALE:GREGORIAN
METHOD:PUBLISH
X-WR-CALNAME:Oakland Housing Authority
X-ORIGINAL-URL:https://www.oakha.org
X-WR-CALDESC:Events for Oakland Housing Authority
REFRESH-INTERVAL;VALUE=DURATION:PT1H
X-Robots-Tag:noindex
X-PUBLISHED-TTL:PT1H
BEGIN:VTIMEZONE
TZID:America/Los_Angeles
BEGIN:DAYLIGHT
TZOFFSETFROM:-0800
TZOFFSETTO:-0700
TZNAME:PDT
DTSTART:20170312T100000
END:DAYLIGHT
BEGIN:STANDARD
TZOFFSETFROM:-0700
TZOFFSETTO:-0800
TZNAME:PST
DTSTART:20171105T090000
END:STANDARD
BEGIN:DAYLIGHT
TZOFFSETFROM:-0800
TZOFFSETTO:-0700
TZNAME:PDT
DTSTART:20180311T100000
END:DAYLIGHT
BEGIN:STANDARD
TZOFFSETFROM:-0700
TZOFFSETTO:-0800
TZNAME:PST
DTSTART:20181104T090000
END:STANDARD
BEGIN:DAYLIGHT
TZOFFSETFROM:-0800
TZOFFSETTO:-0700
TZNAME:PDT
DTSTART:20190310T100000
END:DAYLIGHT
BEGIN:STANDARD
TZOFFSETFROM:-0700
TZOFFSETTO:-0800
TZNAME:PST
DTSTART:20191103T090000
END:STANDARD
END:VTIMEZONE
BEGIN:VEVENT
DTSTART;TZID=America/Los_Angeles:20180710T000000
DTEND;TZID=America/Los_Angeles:20180710T000000
DTSTAMP:20260423T030256
CREATED:20250623T210006Z
LAST-MODIFIED:20260211T201140Z
UID:10003211-1531180800-1531180800@www.oakha.org
SUMMARY:OHI Regular Meeting 7/10/2018
DESCRIPTION:OHI Regular Meeting
URL:https://www.oakha.org/event/ohi-regular-meeting-7-10-2018/
LOCATION:CA
CATEGORIES:Oakland Housing Initiatives, Inc. (OHI)
END:VEVENT
BEGIN:VEVENT
DTSTART;TZID=America/Los_Angeles:20180710T000000
DTEND;TZID=America/Los_Angeles:20180710T000000
DTSTAMP:20260423T030256
CREATED:20250626T210752Z
LAST-MODIFIED:20260211T201121Z
UID:10003337-1531180800-1531180800@www.oakha.org
SUMMARY:KHI Regular Meeting 7/10/2018
DESCRIPTION:KHI Regular Meeting
URL:https://www.oakha.org/event/khi-regular-meeting-7-10-2018/
LOCATION:CA
CATEGORIES:Keller Housing Initiatives, Inc. (KHI)
END:VEVENT
BEGIN:VEVENT
DTSTART;TZID=America/Los_Angeles:20180723T000000
DTEND;TZID=America/Los_Angeles:20180723T000000
DTSTAMP:20260423T030256
CREATED:20250627T191253Z
LAST-MODIFIED:20260211T201008Z
UID:10003402-1532304000-1532304000@www.oakha.org
SUMMARY:Board Meeting 7/23/2018
DESCRIPTION:
URL:https://www.oakha.org/event/board-meeting-7-23-2018/
LOCATION:CA
CATEGORIES:Board Meeting
END:VEVENT
END:VCALENDAR