BEGIN:VCALENDAR
VERSION:2.0
PRODID:-//Oakland Housing Authority - ECPv6.15.12.2//NONSGML v1.0//EN
CALSCALE:GREGORIAN
METHOD:PUBLISH
X-ORIGINAL-URL:https://www.oakha.org
X-WR-CALDESC:Events for Oakland Housing Authority
REFRESH-INTERVAL;VALUE=DURATION:PT1H
X-Robots-Tag:noindex
X-PUBLISHED-TTL:PT1H
BEGIN:VTIMEZONE
TZID:America/Los_Angeles
BEGIN:DAYLIGHT
TZOFFSETFROM:-0800
TZOFFSETTO:-0700
TZNAME:PDT
DTSTART:20190310T100000
END:DAYLIGHT
BEGIN:STANDARD
TZOFFSETFROM:-0700
TZOFFSETTO:-0800
TZNAME:PST
DTSTART:20191103T090000
END:STANDARD
BEGIN:DAYLIGHT
TZOFFSETFROM:-0800
TZOFFSETTO:-0700
TZNAME:PDT
DTSTART:20200308T100000
END:DAYLIGHT
BEGIN:STANDARD
TZOFFSETFROM:-0700
TZOFFSETTO:-0800
TZNAME:PST
DTSTART:20201101T090000
END:STANDARD
BEGIN:DAYLIGHT
TZOFFSETFROM:-0800
TZOFFSETTO:-0700
TZNAME:PDT
DTSTART:20210314T100000
END:DAYLIGHT
BEGIN:STANDARD
TZOFFSETFROM:-0700
TZOFFSETTO:-0800
TZNAME:PST
DTSTART:20211107T090000
END:STANDARD
END:VTIMEZONE
BEGIN:VEVENT
DTSTART;TZID=America/Los_Angeles:20200108T000000
DTEND;TZID=America/Los_Angeles:20200108T000000
DTSTAMP:20260421T191359
CREATED:20250623T205957Z
LAST-MODIFIED:20260211T201139Z
UID:10003204-1578441600-1578441600@www.oakha.org
SUMMARY:OHI Special Meeting 1/8/2020
DESCRIPTION:OHI Special Meeting
URL:https://www.oakha.org/event/ohi-special-meeting-1-8-2020/
LOCATION:CA
CATEGORIES:Oakland Housing Initiatives, Inc. (OHI)
END:VEVENT
BEGIN:VEVENT
DTSTART;TZID=America/Los_Angeles:20200108T000000
DTEND;TZID=America/Los_Angeles:20200108T000000
DTSTAMP:20260421T191359
CREATED:20250626T210537Z
LAST-MODIFIED:20260211T201121Z
UID:10003330-1578441600-1578441600@www.oakha.org
SUMMARY:KHI Special Meeting 1/8/2020
DESCRIPTION:KHI Special Meeting
URL:https://www.oakha.org/event/khi-special-meeting-1-8-2020/
LOCATION:CA
CATEGORIES:Keller Housing Initiatives, Inc. (KHI)
END:VEVENT
BEGIN:VEVENT
DTSTART;TZID=America/Los_Angeles:20200127T000000
DTEND;TZID=America/Los_Angeles:20200127T000000
DTSTAMP:20260421T191359
CREATED:20250627T191954Z
LAST-MODIFIED:20260211T201009Z
UID:10003430-1580083200-1580083200@www.oakha.org
SUMMARY:Board Meeting 1/27/2020
DESCRIPTION:CANCELLED
URL:https://www.oakha.org/event/board-meeting-1-27-2020/
LOCATION:CA
CATEGORIES:Board Meeting
END:VEVENT
END:VCALENDAR